
BEGIN:VCALENDAR
VERSION:2.0
PRODID:-//BridgeUSA - ECPv4.9.13//NONSGML v1.0//EN
CALSCALE:GREGORIAN
METHOD:PUBLISH
X-WR-CALNAME:BridgeUSA
X-ORIGINAL-URL:https://j1visa.state.gov
X-WR-CALDESC:Events for BridgeUSA
BEGIN:VTIMEZONE
TZID:UTC
BEGIN:STANDARD
TZOFFSETFROM:+0000
TZOFFSETTO:+0000
TZNAME:UTC
DTSTART:20190101T000000
END:STANDARD
END:VTIMEZONE
BEGIN:VEVENT
DTSTART;TZID=UTC:20190820T180000
DTEND;TZID=UTC:20190820T200000
DTSTAMP:20210604T024249
CREATED:20190607T181508Z
LAST-MODIFIED:20190607T181508Z
UID:7133-1566324000-1566331200@j1visa.state.gov
SUMMARY:Pigeon Forge\, TN - Thanksgiving in August
DESCRIPTION:When: August 20\, 2019\nWhere: Pigeon Forge First Baptist Church – 3290 Parkway\, Pigeon Forge\, TN 37863\nTime: 6pm EST\nREGISTRATION – REGISTER HERE ->>> https://www.surveymonkey.com/r/ThanksgivingDay2019 – Please register by August 16\, 2019. \n
URL:https://j1visa.state.gov/event/pigeon-forge-tn-thanksgiving-in-august/
LOCATION:Pigeon Forge First Baptist Church\, 3290 Parkway\, Pigeon Forge\, TN\, 37863\, United States
END:VEVENT
BEGIN:VEVENT
DTSTART;TZID=UTC:20190820T180000
DTEND;TZID=UTC:20190820T210000
DTSTAMP:20210604T024249
CREATED:20190731T151805Z
LAST-MODIFIED:20190731T151805Z
UID:7275-1566324000-1566334800@j1visa.state.gov
SUMMARY:Pigeon Forge\, TN - Thanksgiving in August
DESCRIPTION:
URL:https://j1visa.state.gov/event/pigeon-forge-tn-thanksgiving-in-august-2/
LOCATION:Pigeon Forge First Baptist Church
END:VEVENT
BEGIN:VEVENT
DTSTART;TZID=UTC:20190820T190000
DTEND;TZID=UTC:20190820T210000
DTSTAMP:20210604T024249
CREATED:20190731T152156Z
LAST-MODIFIED:20190731T152156Z
UID:7277-1566327600-1566334800@j1visa.state.gov
SUMMARY:Farewell Bowling Event
DESCRIPTION:
URL:https://j1visa.state.gov/event/farewell-bowling-event/
LOCATION:Andy B’s Bowl Social\, 405 Branson Landing Blvd\, Branson\, MO\, 65616
ORGANIZER;CN="Branson%2FLakes%20Area%20Chamber%20of%20Commmerce":MAILTO:imartinez@bransonchamber.com
END:VEVENT
END:VCALENDAR