
BEGIN:VCALENDAR
VERSION:2.0
PRODID:-//BridgeUSA - ECPv4.9.13//NONSGML v1.0//EN
CALSCALE:GREGORIAN
METHOD:PUBLISH
X-WR-CALNAME:BridgeUSA
X-ORIGINAL-URL:https://j1visa.state.gov
X-WR-CALDESC:Events for BridgeUSA
BEGIN:VTIMEZONE
TZID:UTC
BEGIN:STANDARD
TZOFFSETFROM:+0000
TZOFFSETTO:+0000
TZNAME:UTC
DTSTART:20190101T000000
END:STANDARD
END:VTIMEZONE
BEGIN:VEVENT
DTSTART;VALUE=DATE:20190805
DTEND;VALUE=DATE:20190806
DTSTAMP:20210604T024148
CREATED:20190731T140522Z
LAST-MODIFIED:20190731T140522Z
UID:7237-1564963200-1565049599@j1visa.state.gov
SUMMARY:Exchange Day!
DESCRIPTION:Check for events in your area \nTBD to TBD \n
URL:https://j1visa.state.gov/event/exchange-day-2/
END:VEVENT
BEGIN:VEVENT
DTSTART;VALUE=DATE:20190805
DTEND;VALUE=DATE:20190806
DTSTAMP:20210604T024148
CREATED:20190731T140606Z
LAST-MODIFIED:20190731T140606Z
UID:7239-1564963200-1565049599@j1visa.state.gov
SUMMARY:Sandusky\, OH - Exchange Day events all day long
DESCRIPTION:Events all day long – more details soon.\nPOC: Crystal Bunts (cbunts@allianceabroad.com) \nTBD to TBD \n
URL:https://j1visa.state.gov/event/sandusky-oh-exchange-day-events-all-day-long-2/
ORGANIZER;CN="Crystal%20Bunts":MAILTO:cbunts@allianceabroad.com
END:VEVENT
BEGIN:VEVENT
DTSTART;TZID=UTC:20190805T080000
DTEND;TZID=UTC:20190805T170000
DTSTAMP:20210604T024148
CREATED:20190607T180936Z
LAST-MODIFIED:20190607T180936Z
UID:7125-1564992000-1565024400@j1visa.state.gov
SUMMARY:Exchange Day!
DESCRIPTION:Check for events in your area \nTBD to TBD \n
URL:https://j1visa.state.gov/event/exchange-day/
END:VEVENT
BEGIN:VEVENT
DTSTART;TZID=UTC:20190805T080000
DTEND;TZID=UTC:20190805T170000
DTSTAMP:20210604T024148
CREATED:20190607T181050Z
LAST-MODIFIED:20190607T181050Z
UID:7127-1564992000-1565024400@j1visa.state.gov
SUMMARY:Sandusky\, OH - Exchange Day events all day long
DESCRIPTION:Events all day long – more details soon.\nPOC: Crystal Bunts (cbunts@allianceabroad.com)\nMore Information: TBD to TBD \n
URL:https://j1visa.state.gov/event/sandusky-oh-exchange-day-events-all-day-long/
LOCATION:Crystal Bunts
END:VEVENT
BEGIN:VEVENT
DTSTART;TZID=UTC:20190805T090000
DTEND;TZID=UTC:20190805T150000
DTSTAMP:20210604T024148
CREATED:20190731T140846Z
LAST-MODIFIED:20190731T140846Z
UID:7241-1564995600-1565017200@j1visa.state.gov
SUMMARY:Outer Banks\, NC
DESCRIPTION:Where: Corolla Fire & Rescue\, 827 Whalehead Drive\, Corolla\, NC 27927\n When: Monday\, August 5\, 2019\n Time: 9am-3pm EST\n What: Adopt-a-Highway cleanup\, lunch\, and then free admission to the Whalehead Museaum\, Lighthouse & Outer Banks Wildlife Center for Education.\n POC: Jamie Bond obxisop@gmail.com\nRegister at: https://www.eventbrite.com/e/obx-exchange-day-2019-tickets-65434364947 \n
URL:https://j1visa.state.gov/event/outer-banks-nc-2/
LOCATION:Corolla Fire & Rescue\, 827 Whalehead Drive\, Corolla\, NC\, 27927\, United States
ORGANIZER;CN="Jamie%20Bond":MAILTO:jbond@intraxinc.com
END:VEVENT
BEGIN:VEVENT
DTSTART;TZID=UTC:20190805T090000
DTEND;TZID=UTC:20190805T120000
DTSTAMP:20210604T024148
CREATED:20190731T141043Z
LAST-MODIFIED:20190731T141043Z
UID:7244-1564995600-1565006400@j1visa.state.gov
SUMMARY:Rehoboth Beach\, DE
DESCRIPTION:
URL:https://j1visa.state.gov/event/rehoboth-beach-de/
LOCATION:Rehoboth City Hall\, City Hall Dr\, Rehoboth Beach\, DE\, 19971\, United States
ORGANIZER;CN="Debbie%20Donovan%20and%20Sue%20Sprague":MAILTO:j1rehoboth@gmail.com
END:VEVENT
BEGIN:VEVENT
DTSTART;TZID=UTC:20190805T090000
DTEND;TZID=UTC:20190805T150000
DTSTAMP:20210604T024148
CREATED:20190731T141300Z
LAST-MODIFIED:20190731T141300Z
UID:7248-1564995600-1565017200@j1visa.state.gov
SUMMARY:Portsmouth\, NH
DESCRIPTION:
URL:https://j1visa.state.gov/event/portsmouth-nh/
ORGANIZER;CN="Mallory%20Carpentier":MAILTO:mcarpentier@geovisions.com
END:VEVENT
BEGIN:VEVENT
DTSTART;TZID=UTC:20190805T100000
DTEND;TZID=UTC:20190805T180000
DTSTAMP:20210604T024148
CREATED:20190731T141641Z
LAST-MODIFIED:20190731T141641Z
UID:7251-1564999200-1565028000@j1visa.state.gov
SUMMARY: International Student Day\, Myrtle Beach\, SC
DESCRIPTION:Free admission all day. Each exchange visitor gets a free meal ticket for hot dog and soda\, free t-shirt\, and raffle prizes for gift cards and other items. Coastal RTA will provide free bus and trolley rides to/from the park for the event. \n
URL:https://j1visa.state.gov/event/international-student-day-myrtle-beach-sc/
LOCATION:Myrtle Waves Water Park\, 2000 Mr. Joe White Ave\, Myrtle Beach\, SC\, 29577
ORGANIZER;CN="Kathy%20Winfree":MAILTO:bridgingtheyouth@yahoo.com
END:VEVENT
BEGIN:VEVENT
DTSTART;TZID=UTC:20190805T110000
DTEND;TZID=UTC:20190805T160000
DTSTAMP:20210604T024148
CREATED:20190731T143237Z
LAST-MODIFIED:20190731T143237Z
UID:7255-1565002800-1565020800@j1visa.state.gov
SUMMARY:Okoboji\, IA (Arnold's Park)
DESCRIPTION:Picnic day at Central Park – free lunch if bringing a canned food item to donate to the local food pantry. \n
URL:https://j1visa.state.gov/event/okoboji-ia-arnolds-park/
LOCATION:Central Park\, 84 Dewey Street\, Arnolds Park\, Iowa
ORGANIZER;CN="Sheila%20Ove":MAILTO:okobojiweddings@mediacombb.net
END:VEVENT
BEGIN:VEVENT
DTSTART;TZID=UTC:20190805T120000
DTEND;TZID=UTC:20190805T160000
DTSTAMP:20210604T024148
CREATED:20190731T143641Z
LAST-MODIFIED:20190731T150014Z
UID:7258-1565006400-1565020800@j1visa.state.gov
SUMMARY:Santa Clarita\, CA -  Thanksgiving in August
DESCRIPTION:WWCE is hosting a Thanksgiving lunch with classic games like apple bobbing\, pie eating\, and three-legged race. Participants will donate canned food items to the SCV Food Pantry. \n
URL:https://j1visa.state.gov/event/santa-clarita-ca-thanksgiving-in-august/
LOCATION:Bouquet Canyon Park\, 28127 Wellston Dr\, Santa Clarita\, CA\, 91350
ORGANIZER;CN="K.Leigh%20Furzer":MAILTO:swt@wwceusa.com
END:VEVENT
BEGIN:VEVENT
DTSTART;TZID=UTC:20190805T160000
DTEND;TZID=UTC:20190805T190000
DTSTAMP:20210604T024148
CREATED:20190731T150307Z
LAST-MODIFIED:20190731T150307Z
UID:7262-1565020800-1565031600@j1visa.state.gov
SUMMARY:Old Orchard Beach\, ME Hawaiian Luau
DESCRIPTION:Theme: Hawaiian Beach Luau\nWhat: Exchange Day \n
URL:https://j1visa.state.gov/event/old-orchard-beach-me-hawaiian-luau/
LOCATION:The Brunswick\, 39 W Grand Ave\, Old Orchard Beach\, ME\, 04064
ORGANIZER;CN="Michelle%20Riaz":MAILTO:chimicheller@chinet.org
END:VEVENT
BEGIN:VEVENT
DTSTART;TZID=UTC:20190805T160000
DTEND;TZID=UTC:20190805T190000
DTSTAMP:20210604T024148
CREATED:20190731T150648Z
LAST-MODIFIED:20190731T150648Z
UID:7266-1565020800-1565031600@j1visa.state.gov
SUMMARY:Branson\, MO
DESCRIPTION:Students will partner for a collective service project with the Boys & Girls Club of Branson the morning of August 5. Then in the afternoon exchange visitors will experience American style cuisine\, beach games\, volleyball\, swimming\, and dancing at Moonshine Beach Park!\nRegister at: https://www.eventbrite.com/e/2019-branson-j-1-exchange-day-tickets-60597470666?aff=erelexpmlt \n
URL:https://j1visa.state.gov/event/branson-mo/
LOCATION:Moonshine Beach Park\, 3778 State Highway 165\, Branson\, MO\, United States
ORGANIZER;CN="Izze%20Martinez":MAILTO:imartinez@bransonchamber.com
END:VEVENT
BEGIN:VEVENT
DTSTART;TZID=UTC:20190805T180000
DTEND;TZID=UTC:20190805T200000
DTSTAMP:20210604T024148
CREATED:20190607T181301Z
LAST-MODIFIED:20190607T181301Z
UID:7131-1565028000-1565035200@j1visa.state.gov
SUMMARY:Pigeon Forge\, TN - J-Day Event
DESCRIPTION:When: August 5\, 2019\nWhere: Pigeon Forge First Baptist Church – 3290 Parkway\, Pigeon Forge\, TN 37863\nTime: 6pm EST\nREGISTRATION – REGISTER HERE: https://www.surveymonkey.com/r/JDay2019 – Please register by August 2\, 2019. \n
URL:https://j1visa.state.gov/event/pigeon-forge-tn-j-day-event/
LOCATION:Pigeon Forge First Baptist Church\, 3290 Parkway\, Pigeon Forge\, TN\, 37863\, United States
END:VEVENT
BEGIN:VEVENT
DTSTART;TZID=UTC:20190805T180000
DTEND;TZID=UTC:20190805T210000
DTSTAMP:20210604T024148
CREATED:20190731T151252Z
LAST-MODIFIED:20190731T151252Z
UID:7269-1565028000-1565038800@j1visa.state.gov
SUMMARY:Pigeon Forge\, TN - J-Day Event
DESCRIPTION:REGISTRATION – REGISTER HERE ->>> https://www.surveymonkey.com/r/JDay2019 – Please register by August 2\, 2019. \n
URL:https://j1visa.state.gov/event/pigeon-forge-tn-j-day-event-2/
LOCATION:Pigeon Forge First Baptist Church
END:VEVENT
BEGIN:VEVENT
DTSTART;TZID=UTC:20190805T180000
DTEND;TZID=UTC:20190805T200000
DTSTAMP:20210604T024148
CREATED:20190731T151641Z
LAST-MODIFIED:20190731T151641Z
UID:7271-1565028000-1565035200@j1visa.state.gov
SUMMARY:Chicago\, IL
DESCRIPTION:\nPanel Discussion with 4 experts in the exchange field\, both private and public. The moderator will be Greenheart’s very own Megan Arzbaecher!\nLocal craft beer from Kinslahger and hors d’oeuvres\nLive bossa nova Brazilian\nThe Greenheart Shop will be in attendance with some nice goodies for sell.\nAs part of the Give part of the tagline\, we will have a clothing exchange\, where remaining clothes will be donated. Otherwise\, we ask that attendees bring canned food to be donated.\n\nREGISTRATION: You can RSVP for the free event on our Exchange Day Facebook group or Eventbrite. \n
URL:https://j1visa.state.gov/event/chicago-il/
LOCATION:Hosteling International\, 24 E Ida B Wells Drive\, Chicago\, IL\, 60605
ORGANIZER;CN="Haldis%20Toppen":MAILTO:htoppen@greenheart.org
END:VEVENT
END:VCALENDAR