
BEGIN:VCALENDAR
VERSION:2.0
PRODID:-//BridgeUSA - ECPv5.13.0//NONSGML v1.0//EN
CALSCALE:GREGORIAN
METHOD:PUBLISH
X-WR-CALNAME:BridgeUSA
X-ORIGINAL-URL:https://j1visa.state.gov
X-WR-CALDESC:Events for BridgeUSA
BEGIN:VTIMEZONE
TZID:UTC
BEGIN:STANDARD
TZOFFSETFROM:+0000
TZOFFSETTO:+0000
TZNAME:UTC
DTSTART:20190101T000000
END:STANDARD
END:VTIMEZONE
BEGIN:VEVENT
DTSTART;TZID=UTC:20190625T170000
DTEND;TZID=UTC:20190626T200000
DTSTAMP:20260425T133724
CREATED:20190607T184030Z
LAST-MODIFIED:20190607T184030Z
UID:7043-1561482000-1561579200@j1visa.state.gov
SUMMARY:Wisconsin Dells - Summer Kick-off Party
DESCRIPTION:Live music\, outdoor games and free dinner!\nWhere: Bowman Park\, 200 W Hiawatha Dr\, Wisconsin Dells\, WI 53965 \nWhen: Tuesday\, June 25 & Wednesday\, June 26\, 2019\nTime: 5-8pm
URL:https://j1visa.state.gov/event/wisconsin-dells-summer-kick-off-party/
LOCATION:Bowman Park\, Wisconsin Dells\, WI\, 53965\, United States
ORGANIZER;CN="Stacie%20Tollaksen":MAILTO:stollaksen@intraxinc.com
END:VEVENT
BEGIN:VEVENT
DTSTART;TZID=UTC:20190625T170000
DTEND;TZID=UTC:20190626T200000
DTSTAMP:20260425T133724
CREATED:20190607T185541Z
LAST-MODIFIED:20190607T185541Z
UID:7069-1561482000-1561579200@j1visa.state.gov
SUMMARY:Wisconsin Dells - Summer Kick-off Party
DESCRIPTION:Live music\, outdoor games and free dinner!\nWhere: Bowman Park\, 200 W Hiawatha Dr\, Wisconsin Dells\, WI 53965\nWhen: Tuesday\, June 25 & Wednesday\, June 26\, 2019\nTime: 5-8pm
URL:https://j1visa.state.gov/event/wisconsin-dells-summer-kick-off-party-2/
LOCATION:Bowman Park\, 200 W Hiawatha Dr\, Wisconsin Dells\, WI\, 53965
ORGANIZER;CN="Stacie%20Tollaksen":MAILTO:stollaksen@intraxinc.com
END:VEVENT
BEGIN:VEVENT
DTSTART;TZID=UTC:20190626T090000
DTEND;TZID=UTC:20190626T110000
DTSTAMP:20260425T133724
CREATED:20190607T184519Z
LAST-MODIFIED:20190607T184519Z
UID:7050-1561539600-1561546800@j1visa.state.gov
SUMMARY:Outer Banks\, NC - Orientation/Welcome Events
DESCRIPTION:Orientation/Welcome Events (Held at Outer Banks YMCA) with Social Security & Community Partners \nAPPLY FOR A SOCIAL SECURITY CARD \nGet Free stuff \nWWW.OBXISOP.COM\nOBXISOP@GMAIL.COM \n 
URL:https://j1visa.state.gov/event/outer-banks-nc-orientation-welcome-events-3/
LOCATION:Outer Banks Family YMCA\, 3000 S Croatan Hwy\, Nags Head\, NC\, 27959
ORGANIZER;CN="Jamie%20Bond":MAILTO:jbond@intraxinc.com
END:VEVENT
BEGIN:VEVENT
DTSTART;TZID=UTC:20190626T110000
DTEND;TZID=UTC:20190626T140000
DTSTAMP:20260425T133724
CREATED:20190607T184809Z
LAST-MODIFIED:20190607T184809Z
UID:7054-1561546800-1561557600@j1visa.state.gov
SUMMARY:Williamsburg\, VA - Exchange Visitor Appreciation Day
DESCRIPTION:Exchange Visitor Appreciation Day\nWhere: Pineapple Inn and Housing Center\, 5437 Richmond Rd\, Williamsburg\, VA 23188\, USA\nWhen: Wednesday\, June 26\nTime: 11am-2pm
URL:https://j1visa.state.gov/event/williamsburg-va-exchange-visitor-appreciation-day/
LOCATION:Pineapple Inn and Housing Center\, 5437 Richmond Rd\, Williamsburg\, VA\, 23188
ORGANIZER;CN="Amy%20Lee":MAILTO:info@pineapplehousing.com
END:VEVENT
BEGIN:VEVENT
DTSTART;TZID=UTC:20190626T130000
DTEND;TZID=UTC:20190626T150000
DTSTAMP:20260425T133724
CREATED:20190607T185155Z
LAST-MODIFIED:20190607T185155Z
UID:7058-1561554000-1561561200@j1visa.state.gov
SUMMARY:Sandusky\, OH - Safety Seminar
DESCRIPTION:Where: Sandusky Fire Department\, 600 W. Market St.\, Sandusky\, Ohio\nWhen: June 26\nTime: 1pm-3pm
URL:https://j1visa.state.gov/event/sandusky-oh-safety-seminar-3/
LOCATION:Sandusky Fire Department\, 600 W Market St\, Sandusky\, OH\, 44870
ORGANIZER;CN="Crystal%20Bunts":MAILTO:cbunts@allianceabroad.com
END:VEVENT
BEGIN:VEVENT
DTSTART;TZID=UTC:20190626T140000
DTEND;TZID=UTC:20190626T160000
DTSTAMP:20260425T133724
CREATED:20190607T185328Z
LAST-MODIFIED:20190607T185328Z
UID:7064-1561557600-1561564800@j1visa.state.gov
SUMMARY:Old Orchard Beach\, ME - Social Security Application Days at Town Hall
DESCRIPTION:Apply for Social Security Cards on-site at the OOB Town Hall.
URL:https://j1visa.state.gov/event/old-orchard-beach-me-social-security-application-days-at-town-hall-2/
LOCATION:OOB Town Hall\, Old Orchard Beach\, ME
ORGANIZER;CN="Carol%20Crowell":MAILTO:ccrowell@oobmaine.com
END:VEVENT
BEGIN:VEVENT
DTSTART;TZID=UTC:20190626T180000
DTEND;TZID=UTC:20190626T200000
DTSTAMP:20260425T133724
CREATED:20190607T190014Z
LAST-MODIFIED:20190607T190014Z
UID:7077-1561572000-1561579200@j1visa.state.gov
SUMMARY:Ocean City J-1 Safety Night
DESCRIPTION:Division Street & Boardwalk – on the beach – starting at 6:00pm \n\nRotating groups will meet with the Police Dept.\, Beach Patrol\, Emergency Services\, and Fire Dept. to watch safety demonstrations\, learn about safety equipment\, tour inside various vehicles\, also canine unit demonstration. Pizza and soda will be served.\nGroup limited to 30 participants at each event; no cost to participants!\n\nRegister at:\nhttps://chamber.oceancity.org/events/details/safety-nights-on-the-beach-2019-session-2-30013?range=365
URL:https://j1visa.state.gov/event/ocean-city-j-1-safety-night/
LOCATION:Division Street & Boardwalk\, Ocean City\, MD
ORGANIZER;CN="Carrie%20Linch":MAILTO:carrie@aspireww.com
END:VEVENT
END:VCALENDAR