
BEGIN:VCALENDAR
VERSION:2.0
PRODID:-//BridgeUSA - ECPv5.13.0//NONSGML v1.0//EN
CALSCALE:GREGORIAN
METHOD:PUBLISH
X-WR-CALNAME:BridgeUSA
X-ORIGINAL-URL:https://j1visa.state.gov
X-WR-CALDESC:Events for BridgeUSA
BEGIN:VTIMEZONE
TZID:America/Chicago
BEGIN:DAYLIGHT
TZOFFSETFROM:-0600
TZOFFSETTO:-0500
TZNAME:CDT
DTSTART:20190310T080000
END:DAYLIGHT
BEGIN:STANDARD
TZOFFSETFROM:-0500
TZOFFSETTO:-0600
TZNAME:CST
DTSTART:20191103T070000
END:STANDARD
TZID:America/New_York
BEGIN:DAYLIGHT
TZOFFSETFROM:-0500
TZOFFSETTO:-0400
TZNAME:EDT
DTSTART:20190310T070000
END:DAYLIGHT
BEGIN:STANDARD
TZOFFSETFROM:-0400
TZOFFSETTO:-0500
TZNAME:EST
DTSTART:20191103T060000
END:STANDARD
TZID:America/Denver
BEGIN:DAYLIGHT
TZOFFSETFROM:-0700
TZOFFSETTO:-0600
TZNAME:MDT
DTSTART:20190310T090000
END:DAYLIGHT
BEGIN:STANDARD
TZOFFSETFROM:-0600
TZOFFSETTO:-0700
TZNAME:MST
DTSTART:20191103T080000
END:STANDARD
END:VTIMEZONE
BEGIN:VEVENT
DTSTART;TZID=America/Chicago:20190617T094500
DTEND;TZID=America/Chicago:20190617T114500
DTSTAMP:20260425T165426
CREATED:20190607T165009Z
LAST-MODIFIED:20190607T165009Z
UID:7010-1560764700-1560771900@j1visa.state.gov
SUMMARY:Galveston\, TX - Safety Seminar
DESCRIPTION:
URL:https://j1visa.state.gov/event/galveston-tx-safety-seminar-2/
LOCATION:Schlitterbahn Staff Services\, 2026 Lockheed Street\, Galveston\, TX\, 77554\, United States
ORGANIZER;CN="Marianna%20Lemire":MAILTO:mlemire@allianceabroad.com
END:VEVENT
BEGIN:VEVENT
DTSTART;TZID=America/New_York:20190617T140000
DTEND;TZID=America/New_York:20190617T160000
DTSTAMP:20260425T165426
CREATED:20190607T165724Z
LAST-MODIFIED:20190607T170136Z
UID:7012-1560780000-1560787200@j1visa.state.gov
SUMMARY:Ogunquit\, ME - Welcome Bash and Bike Raffle
DESCRIPTION:Welcome to Ogunquit Bash & Bike Raffle
URL:https://j1visa.state.gov/event/ogunquit-me-welcome-bash-and-bike-raffle/
LOCATION:Dunaway Community Center\, 23 School Street\, Ogunquit\, ME\, 03907\, United States
ORGANIZER;CN="Kathleen%20Mears":MAILTO:chikathleen@chinet.org
END:VEVENT
BEGIN:VEVENT
DTSTART;TZID=America/Denver:20190617T180000
DTEND;TZID=America/Denver:20190617T200000
DTSTAMP:20260425T165426
CREATED:20190607T180329Z
LAST-MODIFIED:20190607T180329Z
UID:7015-1560794400-1560801600@j1visa.state.gov
SUMMARY:Park City\, UT - Welcome Party
DESCRIPTION:Theme: Olympics
URL:https://j1visa.state.gov/event/park-city-ut-welcome-party/
LOCATION:Miners Hospital Community Center\, 1354 Park Ave\, Park City\, UT\, 84060\, United States
ORGANIZER;CN="Veronica%20Martinez":MAILTO:veronicam@ccusa.com
END:VEVENT
END:VCALENDAR