
BEGIN:VCALENDAR
VERSION:2.0
PRODID:-//BridgeUSA - ECPv5.13.0//NONSGML v1.0//EN
CALSCALE:GREGORIAN
METHOD:PUBLISH
X-WR-CALNAME:BridgeUSA
X-ORIGINAL-URL:https://j1visa.state.gov
X-WR-CALDESC:Events for BridgeUSA
BEGIN:VTIMEZONE
TZID:America/New_York
BEGIN:DAYLIGHT
TZOFFSETFROM:-0500
TZOFFSETTO:-0400
TZNAME:EDT
DTSTART:20190310T070000
END:DAYLIGHT
BEGIN:STANDARD
TZOFFSETFROM:-0400
TZOFFSETTO:-0500
TZNAME:EST
DTSTART:20191103T060000
END:STANDARD
TZID:America/Chicago
BEGIN:DAYLIGHT
TZOFFSETFROM:-0600
TZOFFSETTO:-0500
TZNAME:CDT
DTSTART:20190310T080000
END:DAYLIGHT
BEGIN:STANDARD
TZOFFSETFROM:-0500
TZOFFSETTO:-0600
TZNAME:CST
DTSTART:20191103T070000
END:STANDARD
END:VTIMEZONE
BEGIN:VEVENT
DTSTART;TZID=America/New_York:20190612T100000
DTEND;TZID=America/New_York:20190612T140000
DTSTAMP:20260425T133725
CREATED:20190606T230455Z
LAST-MODIFIED:20190606T231048Z
UID:6987-1560333600-1560348000@j1visa.state.gov
SUMMARY:Cape Cod - Social Security Sign-up Day
DESCRIPTION:Social Security Application Days on Cape Cod and the Islands\nSponsor representatives are invited to assist!\nProvincetown\, MA: Veterans Memorial Community Center/Council on Aging (2 Mayflower Street\, Provincetown) \nParticipants working in the towns of Provincetown\, Truro\, and Wellfleet will benefit from these events.
URL:https://j1visa.state.gov/event/cape-cod-social-security-sign-up-day/
LOCATION:Veterans Memorial Community Center\, 2 Mayflower St\, Provincetown\, MA\, 02657\, United States
ORGANIZER;CN="Janice%20Fox":MAILTO:jfox@intraxinc.com 
END:VEVENT
BEGIN:VEVENT
DTSTART;TZID=America/Chicago:20190612T110000
DTEND;TZID=America/Chicago:20190612T130000
DTSTAMP:20260425T133725
CREATED:20190606T231524Z
LAST-MODIFIED:20190606T231524Z
UID:6990-1560337200-1560344400@j1visa.state.gov
SUMMARY:Wisconsin Dells - Welcome Orientation
DESCRIPTION:
URL:https://j1visa.state.gov/event/wisconsin-dells-welcome-orientation/
LOCATION:Hiawatha Residence Hall\, 200 W Hiawatha Dr.\, Wisconsin Dells\, WI\, 53965\, United States
ORGANIZER;CN="Stacie%20Tollaksen":MAILTO:STollaksen@intrax.com
END:VEVENT
BEGIN:VEVENT
DTSTART;TZID=America/New_York:20190612T130000
DTEND;TZID=America/New_York:20190612T150000
DTSTAMP:20260425T133725
CREATED:20190606T232032Z
LAST-MODIFIED:20190606T232032Z
UID:6992-1560344400-1560351600@j1visa.state.gov
SUMMARY:Sandusky\, OH - Safety Seminar
DESCRIPTION:
URL:https://j1visa.state.gov/event/sandusky-oh-safety-seminar-2/
LOCATION:Sandusky Fire Department\, 600 W Market St\, Sandusky\, OH\, 44870\, United States
ORGANIZER;CN="Crystal%20Bunts":MAILTO:cbunts@allianceabroad.com
END:VEVENT
BEGIN:VEVENT
DTSTART;TZID=America/New_York:20190612T140000
DTEND;TZID=America/New_York:20190612T160000
DTSTAMP:20260425T133725
CREATED:20190606T232913Z
LAST-MODIFIED:20190606T232913Z
UID:6996-1560348000-1560355200@j1visa.state.gov
SUMMARY:Old Orchard Beach\, ME - Social Security Application Days at Town Hall
DESCRIPTION:Apply for Social Security Cards on-site at the OOB Town Hall.
URL:https://j1visa.state.gov/event/old-orchard-beach-me-social-security-application-days-at-town-hall/
LOCATION:Old Orchard Beach Town Hall\, 1 Portland Ave\, Old Orchard Beach\, ME\, 04064\, United States
ORGANIZER;CN="Carol%20Crowell":MAILTO:ccrowell@oobmaine.com
END:VEVENT
BEGIN:VEVENT
DTSTART;TZID=America/Chicago:20190612T180000
DTEND;TZID=America/Chicago:20190612T200000
DTSTAMP:20260425T133725
CREATED:20190606T233949Z
LAST-MODIFIED:20190606T233949Z
UID:7000-1560362400-1560369600@j1visa.state.gov
SUMMARY:Wisconsin Dells - Welcome Orientation
DESCRIPTION:
URL:https://j1visa.state.gov/event/wisconsin-dells-welcome-orientation-2/
LOCATION:Hiawatha Residence Hall\, 200 W Hiawatha Dr.\, Wisconsin Dells\, WI\, 53965\, United States
ORGANIZER;CN="Stacie%20Tollaksen":MAILTO:STollaksen@intrax.com
END:VEVENT
END:VCALENDAR