
BEGIN:VCALENDAR
VERSION:2.0
PRODID:-//BridgeUSA - ECPv5.13.0//NONSGML v1.0//EN
CALSCALE:GREGORIAN
METHOD:PUBLISH
X-WR-CALNAME:BridgeUSA
X-ORIGINAL-URL:https://j1visa.state.gov
X-WR-CALDESC:Events for BridgeUSA
BEGIN:VTIMEZONE
TZID:UTC
BEGIN:STANDARD
TZOFFSETFROM:+0000
TZOFFSETTO:+0000
TZNAME:UTC
DTSTART:20180101T000000
END:STANDARD
END:VTIMEZONE
BEGIN:VEVENT
DTSTART;TZID=UTC:20180612T000000
DTEND;TZID=UTC:20180612T000000
DTSTAMP:20260425T084508
CREATED:20180117T010353Z
LAST-MODIFIED:20190626T194509Z
UID:6200-1528761600-1528761600@j1visa.state.gov
SUMMARY:OBX EV Social Security/Orientation
DESCRIPTION:POC: JamieBond (jbond@intrax.inc)
URL:https://j1visa.state.gov/event/obx-ev-social-security-orientation-3/
END:VEVENT
BEGIN:VEVENT
DTSTART;TZID=UTC:20180612T000000
DTEND;TZID=UTC:20180612T000000
DTSTAMP:20260425T084508
CREATED:20180530T001748Z
LAST-MODIFIED:20180530T001748Z
UID:6633-1528761600-1528761600@j1visa.state.gov
SUMMARY:Myrtle Beach Orientation
DESCRIPTION:Seacoast Vineyard Church\n504 27th Avenue North\nMyrtle Beach\, SC 29577\n843.445.9000
URL:https://j1visa.state.gov/event/myrtle-beach-orientation-3/
LOCATION:Seacoast Vineyard Church\, 504 27th Avenue North\, Myrtle Beach\, SC\, United States
END:VEVENT
BEGIN:VEVENT
DTSTART;TZID=UTC:20180612T110000
DTEND;TZID=UTC:20180612T233000
DTSTAMP:20260425T084508
CREATED:20180530T000436Z
LAST-MODIFIED:20180530T000436Z
UID:6609-1528801200-1528846200@j1visa.state.gov
SUMMARY:Galveston Safety Seminar
DESCRIPTION:Hilton Hotel\n5400 Seawall Blvd\nGalveston\, TX 77551
URL:https://j1visa.state.gov/event/galveston-safety-seminar-2/
LOCATION:Hilton Hotel\, 5400 Seawall Blvd.\, Galveston\, TX\, 77551\, United States
END:VEVENT
BEGIN:VEVENT
DTSTART;TZID=UTC:20180612T150000
DTEND;TZID=UTC:20180612T170000
DTSTAMP:20260425T084508
CREATED:20180530T001954Z
LAST-MODIFIED:20180530T001954Z
UID:6635-1528815600-1528822800@j1visa.state.gov
SUMMARY:Branson J-1 Welcome Orientation
DESCRIPTION:3524 Keeter St.\nBranson\, Missouri 65616
URL:https://j1visa.state.gov/event/branson-j-1-welcome-orientation-3/
LOCATION:3524 Keeter St.\, Branson\, Missouri 65616\, 3524 Keeter St.\, Branson\, MO\, 65616\, United States
END:VEVENT
END:VCALENDAR