
BEGIN:VCALENDAR
VERSION:2.0
PRODID:-//BridgeUSA - ECPv5.13.0//NONSGML v1.0//EN
CALSCALE:GREGORIAN
METHOD:PUBLISH
X-WR-CALNAME:BridgeUSA
X-ORIGINAL-URL:https://j1visa.state.gov
X-WR-CALDESC:Events for BridgeUSA
BEGIN:VTIMEZONE
TZID:UTC
BEGIN:STANDARD
TZOFFSETFROM:+0000
TZOFFSETTO:+0000
TZNAME:UTC
DTSTART:20180101T000000
END:STANDARD
END:VTIMEZONE
BEGIN:VEVENT
DTSTART;TZID=UTC:20180607T000000
DTEND;TZID=UTC:20180607T000000
DTSTAMP:20260425T133554
CREATED:20180530T001507Z
LAST-MODIFIED:20180530T001614Z
UID:6630-1528329600-1528329600@j1visa.state.gov
SUMMARY:SISOP Orientation
DESCRIPTION:SISOP Orientation
URL:https://j1visa.state.gov/event/sisop-orientation-2/
END:VEVENT
END:VCALENDAR