
BEGIN:VCALENDAR
VERSION:2.0
PRODID:-//BridgeUSA - ECPv5.13.0//NONSGML v1.0//EN
CALSCALE:GREGORIAN
METHOD:PUBLISH
X-WR-CALNAME:BridgeUSA
X-ORIGINAL-URL:https://j1visa.state.gov
X-WR-CALDESC:Events for BridgeUSA
BEGIN:VTIMEZONE
TZID:UTC
BEGIN:STANDARD
TZOFFSETFROM:+0000
TZOFFSETTO:+0000
TZNAME:UTC
DTSTART:20180101T000000
END:STANDARD
END:VTIMEZONE
BEGIN:VEVENT
DTSTART;TZID=UTC:20180601T100000
DTEND;TZID=UTC:20180601T113000
DTSTAMP:20260426T001121
CREATED:20180529T235346Z
LAST-MODIFIED:20180529T235346Z
UID:6601-1527847200-1527852600@j1visa.state.gov
SUMMARY:Branson ISOP Meeting
DESCRIPTION:Branson Chamber of Commerce & Convention Bureau\n269 MO-248\nBranson\, MO 65616\nUSA
URL:https://j1visa.state.gov/event/branson-isop-meeting/
LOCATION:Branson Chamber of Commerce\, 269 MO-248\, Branson\, MO\, 65616\, United States
ORGANIZER;CN="Izzie%20Martinez":MAILTO:imartinez@bransonchamber.com
END:VEVENT
END:VCALENDAR