
BEGIN:VCALENDAR
VERSION:2.0
PRODID:-//BridgeUSA - ECPv5.13.0//NONSGML v1.0//EN
CALSCALE:GREGORIAN
METHOD:PUBLISH
X-WR-CALNAME:BridgeUSA
X-ORIGINAL-URL:https://j1visa.state.gov
X-WR-CALDESC:Events for BridgeUSA
BEGIN:VTIMEZONE
TZID:UTC
BEGIN:STANDARD
TZOFFSETFROM:+0000
TZOFFSETTO:+0000
TZNAME:UTC
DTSTART:20180101T000000
END:STANDARD
END:VTIMEZONE
BEGIN:VEVENT
DTSTART;TZID=UTC:20180531T000000
DTEND;TZID=UTC:20180531T000000
DTSTAMP:20260425T103120
CREATED:20180529T235028Z
LAST-MODIFIED:20180529T235028Z
UID:6597-1527724800-1527724800@j1visa.state.gov
SUMMARY:Rehoboth orientation
DESCRIPTION:
URL:https://j1visa.state.gov/event/rehoboth-orientation/
END:VEVENT
BEGIN:VEVENT
DTSTART;TZID=UTC:20180531T000000
DTEND;TZID=UTC:20180531T000000
DTSTAMP:20260425T103120
CREATED:20180529T235100Z
LAST-MODIFIED:20180529T235100Z
UID:6599-1527724800-1527724800@j1visa.state.gov
SUMMARY:SISOP orientation
DESCRIPTION:
URL:https://j1visa.state.gov/event/sisop-orientation/
END:VEVENT
END:VCALENDAR