
BEGIN:VCALENDAR
VERSION:2.0
PRODID:-//BridgeUSA - ECPv5.13.0//NONSGML v1.0//EN
CALSCALE:GREGORIAN
METHOD:PUBLISH
X-WR-CALNAME:BridgeUSA
X-ORIGINAL-URL:https://j1visa.state.gov
X-WR-CALDESC:Events for BridgeUSA
BEGIN:VTIMEZONE
TZID:UTC
BEGIN:STANDARD
TZOFFSETFROM:+0000
TZOFFSETTO:+0000
TZNAME:UTC
DTSTART:20180101T000000
END:STANDARD
END:VTIMEZONE
BEGIN:VEVENT
DTSTART;TZID=UTC:20180508T090000
DTEND;TZID=UTC:20180508T120000
DTSTAMP:20260425T103137
CREATED:20180221T031417Z
LAST-MODIFIED:20180221T031417Z
UID:6340-1525770000-1525780800@j1visa.state.gov
SUMMARY:Lake George\, NY - J-1 SWT Community Forum
DESCRIPTION:Where: Holiday Inn Resort\, LakeGeorge\, NYWhen: Tuesday\, May 8Time: 9am-12pmPOC: LGStudentConnection@yahoo.com
URL:https://j1visa.state.gov/event/lake-george-ny-j-1-swt-community-forum/
END:VEVENT
END:VCALENDAR