
BEGIN:VCALENDAR
VERSION:2.0
PRODID:-//BridgeUSA - ECPv5.13.0//NONSGML v1.0//EN
CALSCALE:GREGORIAN
METHOD:PUBLISH
X-WR-CALNAME:BridgeUSA
X-ORIGINAL-URL:https://j1visa.state.gov
X-WR-CALDESC:Events for BridgeUSA
BEGIN:VTIMEZONE
TZID:UTC
BEGIN:STANDARD
TZOFFSETFROM:+0000
TZOFFSETTO:+0000
TZNAME:UTC
DTSTART:20180101T000000
END:STANDARD
END:VTIMEZONE
BEGIN:VEVENT
DTSTART;TZID=UTC:20180307T130000
DTEND;TZID=UTC:20180307T143000
DTSTAMP:20260425T084518
CREATED:20180221T015246Z
LAST-MODIFIED:20180221T015340Z
UID:6308-1520427600-1520433000@j1visa.state.gov
SUMMARY:Virginia Beach\, VA ISOP Planning Meeting
DESCRIPTION:Oceanfront Area Library (In the Large Meeting Room) \n700 Virginia Beach Boulevard\, Virginia Beach\, VA 23451 Large Meeting Room 1:00-2:30 p.m.POC: NancyPerry (nperry@interexchange.org)
URL:https://j1visa.state.gov/event/virginia-beach-va-isop-planning-meeting-3/
END:VEVENT
END:VCALENDAR