
BEGIN:VCALENDAR
VERSION:2.0
PRODID:-//BridgeUSA - ECPv5.13.0//NONSGML v1.0//EN
CALSCALE:GREGORIAN
METHOD:PUBLISH
X-WR-CALNAME:BridgeUSA
X-ORIGINAL-URL:https://j1visa.state.gov
X-WR-CALDESC:Events for BridgeUSA
BEGIN:VTIMEZONE
TZID:UTC
BEGIN:STANDARD
TZOFFSETFROM:+0000
TZOFFSETTO:+0000
TZNAME:UTC
DTSTART:20180101T000000
END:STANDARD
END:VTIMEZONE
BEGIN:VEVENT
DTSTART;TZID=UTC:20180220T130000
DTEND;TZID=UTC:20180220T140000
DTSTAMP:20260425T165421
CREATED:20180221T012355Z
LAST-MODIFIED:20180221T014153Z
UID:6298-1519131600-1519135200@j1visa.state.gov
SUMMARY:Rehoboth Beach\, DE - ISOP Meeting
DESCRIPTION:Where:Lutheran Church of Our SaviorWhen:Tuesday\, February 20Time:1:00pmPOC:Maryanne Kauffman (mc.kauffman100@gmail.com)\nLocation:Lutheran Church of Our Savior\, 20276 Bay Vista Rd\, Rehoboth Beach\, DE 19971\, USA
URL:https://j1visa.state.gov/event/rehoboth-beach-de-isop-meeting/
END:VEVENT
END:VCALENDAR