
BEGIN:VCALENDAR
VERSION:2.0
PRODID:-//BridgeUSA - ECPv5.13.0//NONSGML v1.0//EN
CALSCALE:GREGORIAN
METHOD:PUBLISH
X-WR-CALNAME:BridgeUSA
X-ORIGINAL-URL:https://j1visa.state.gov
X-WR-CALDESC:Events for BridgeUSA
BEGIN:VTIMEZONE
TZID:UTC
BEGIN:STANDARD
TZOFFSETFROM:+0000
TZOFFSETTO:+0000
TZNAME:UTC
DTSTART:20180101T000000
END:STANDARD
END:VTIMEZONE
BEGIN:VEVENT
DTSTART;TZID=UTC:20180111T130000
DTEND;TZID=UTC:20180111T140000
DTSTAMP:20260425T133707
CREATED:20171216T000559Z
LAST-MODIFIED:20171216T002120Z
UID:6081-1515675600-1515679200@j1visa.state.gov
SUMMARY:Williamsburg ISOP Committee Meeting
DESCRIPTION:Point of Contact\nJamieBond jbond@intrax.inc and Amy Lee info@pineapplehousing.com \n1:00 PM to 2:00 PM
URL:https://j1visa.state.gov/event/williamsburg-isop-committee-meeting/
ORGANIZER;CN="Jamie%20Bond":MAILTO:obxisop@gmail.com 
END:VEVENT
END:VCALENDAR