
BEGIN:VCALENDAR
VERSION:2.0
PRODID:-//BridgeUSA - ECPv5.13.0//NONSGML v1.0//EN
CALSCALE:GREGORIAN
METHOD:PUBLISH
X-WR-CALNAME:BridgeUSA
X-ORIGINAL-URL:https://j1visa.state.gov
X-WR-CALDESC:Events for BridgeUSA
BEGIN:VTIMEZONE
TZID:America/Chicago
BEGIN:DAYLIGHT
TZOFFSETFROM:-0600
TZOFFSETTO:-0500
TZNAME:CDT
DTSTART:20190310T080000
END:DAYLIGHT
BEGIN:STANDARD
TZOFFSETFROM:-0500
TZOFFSETTO:-0600
TZNAME:CST
DTSTART:20191103T070000
END:STANDARD
END:VTIMEZONE
BEGIN:VEVENT
DTSTART;TZID=America/Chicago:20190619T180000
DTEND;TZID=America/Chicago:20190619T200000
DTSTAMP:20260425T165545
CREATED:20190607T185837Z
LAST-MODIFIED:20190607T185837Z
UID:7076-1560967200-1560974400@j1visa.state.gov
SUMMARY:Wisconsin Dells - Welcome Orientation
DESCRIPTION:
URL:https://j1visa.state.gov/event/wisconsin-dells-welcome-orientation-4/
LOCATION:Hiawatha Residence Hall\, 200 W Hiawatha Dr.\, Wisconsin Dells\, WI\, 53965\, United States
ORGANIZER;CN="Stacie%20Tollaksen":MAILTO:STollaksen@intrax.com
END:VEVENT
END:VCALENDAR