
BEGIN:VCALENDAR
VERSION:2.0
PRODID:-//BridgeUSA - ECPv4.9.13//NONSGML v1.0//EN
CALSCALE:GREGORIAN
METHOD:PUBLISH
X-WR-CALNAME:BridgeUSA
X-ORIGINAL-URL:https://j1visa.state.gov
X-WR-CALDESC:Events for BridgeUSA
BEGIN:VTIMEZONE
TZID:America/Chicago
BEGIN:DAYLIGHT
TZOFFSETFROM:-0600
TZOFFSETTO:-0500
TZNAME:CDT
DTSTART:20190310T080000
END:DAYLIGHT
BEGIN:STANDARD
TZOFFSETFROM:-0500
TZOFFSETTO:-0600
TZNAME:CST
DTSTART:20191103T070000
END:STANDARD
END:VTIMEZONE
BEGIN:VEVENT
DTSTART;TZID=America/Chicago:20190612T180000
DTEND;TZID=America/Chicago:20190612T200000
DTSTAMP:20201229T070724
CREATED:20190606T193949Z
LAST-MODIFIED:20190606T193949Z
UID:7000-1560362400-1560369600@j1visa.state.gov
SUMMARY:Wisconsin Dells - Welcome Orientation
DESCRIPTION:\n												\n												\n													\n													\n													\n												\n												\n											
URL:https://j1visa.state.gov/event/wisconsin-dells-welcome-orientation-2/
LOCATION:Hiawatha Residence Hall\, 200 W Hiawatha Dr.\, Wisconsin Dells\, WI\, 53965\, United States
ORGANIZER;CN="Stacie%20Tollaksen":MAILTO:STollaksen@intrax.com
END:VEVENT
END:VCALENDAR