
BEGIN:VCALENDAR
VERSION:2.0
PRODID:-//BridgeUSA - ECPv5.13.0//NONSGML v1.0//EN
CALSCALE:GREGORIAN
METHOD:PUBLISH
X-WR-CALNAME:BridgeUSA
X-ORIGINAL-URL:https://j1visa.state.gov
X-WR-CALDESC:Events for BridgeUSA
BEGIN:VTIMEZONE
TZID:UTC
BEGIN:STANDARD
TZOFFSETFROM:+0000
TZOFFSETTO:+0000
TZNAME:UTC
DTSTART:20160101T000000
END:STANDARD
END:VTIMEZONE
BEGIN:VEVENT
DTSTART;TZID=UTC:20161215T170000
DTEND;TZID=UTC:20161215T193000
DTSTAMP:20260425T082551
CREATED:20160805T193439Z
LAST-MODIFIED:20160805T193439Z
UID:4326-1481821200-1481830200@j1visa.state.gov
SUMMARY:Winter J1 Participant Welcome Meeting – Lake Tahoe
DESCRIPTION:Meeting takes place from 5:00 – 7:30pm \nFor more information contact Rachaelr@ccusa.com
URL:https://j1visa.state.gov/event/winter-j1-participant-welcome-meeting-lake-tahoe/
LOCATION:Squaw Valley Resort\, 1960 Squaw Valley Rd\, Olympic Valley\, CA\, 96146\, United States
END:VEVENT
END:VCALENDAR