
BEGIN:VCALENDAR
VERSION:2.0
PRODID:-//BridgeUSA - ECPv5.13.0//NONSGML v1.0//EN
CALSCALE:GREGORIAN
METHOD:PUBLISH
X-WR-CALNAME:BridgeUSA
X-ORIGINAL-URL:https://j1visa.state.gov
X-WR-CALDESC:Events for BridgeUSA
BEGIN:VTIMEZONE
TZID:UTC
BEGIN:STANDARD
TZOFFSETFROM:+0000
TZOFFSETTO:+0000
TZNAME:UTC
DTSTART:20170101T000000
END:STANDARD
END:VTIMEZONE
BEGIN:VEVENT
DTSTART;TZID=UTC:20170228T090000
DTEND;TZID=UTC:20170228T113000
DTSTAMP:20260424T094018
CREATED:20161007T193926Z
LAST-MODIFIED:20161007T193926Z
UID:4573-1488272400-1488281400@j1visa.state.gov
SUMMARY:Winter J-1 Employer/Community Meeting
DESCRIPTION:
URL:https://j1visa.state.gov/event/winter-j-1-employercommunity-meeting/
LOCATION:OTC Table Rock Campus\, Community Room (4th Floor)\, 10698 MO-165\, Hollister\, MO\, 65672\, United States
ORGANIZER;CN="":MAILTO:Abigail@culturalexchangenetwork.org
END:VEVENT
END:VCALENDAR