
BEGIN:VCALENDAR
VERSION:2.0
PRODID:-//BridgeUSA - ECPv5.13.0//NONSGML v1.0//EN
CALSCALE:GREGORIAN
METHOD:PUBLISH
X-WR-CALNAME:BridgeUSA
X-ORIGINAL-URL:https://j1visa.state.gov
X-WR-CALDESC:Events for BridgeUSA
BEGIN:VTIMEZONE
TZID:America/New_York
BEGIN:DAYLIGHT
TZOFFSETFROM:-0500
TZOFFSETTO:-0400
TZNAME:EDT
DTSTART:20190310T070000
END:DAYLIGHT
BEGIN:STANDARD
TZOFFSETFROM:-0400
TZOFFSETTO:-0500
TZNAME:EST
DTSTART:20191103T060000
END:STANDARD
END:VTIMEZONE
BEGIN:VEVENT
DTSTART;TZID=America/New_York:20190611T110000
DTEND;TZID=America/New_York:20190611T130000
DTSTAMP:20260425T084636
CREATED:20190606T224154Z
LAST-MODIFIED:20190606T224618Z
UID:6979-1560250800-1560258000@j1visa.state.gov
SUMMARY:Williamsburg\, VA - ISOP Meeting
DESCRIPTION:ISOP planning meeting\nWhere: Pineapple Inn and Housing Center\, 5437 Richmond Rd\, Williamsburg\, VA 23188\, USA – Living Room
URL:https://j1visa.state.gov/event/williamsburg-va-isop-meeting/
LOCATION:Pineapple Inn and Housing Center\, 5437 Richmond Rd\, Williamsburg\, VA\, 23188\, United States
ORGANIZER;CN="Amy%20Lee":MAILTO:info@pineapplehousing.com
END:VEVENT
END:VCALENDAR