
BEGIN:VCALENDAR
VERSION:2.0
PRODID:-//BridgeUSA - ECPv4.9.13//NONSGML v1.0//EN
CALSCALE:GREGORIAN
METHOD:PUBLISH
X-WR-CALNAME:BridgeUSA
X-ORIGINAL-URL:https://j1visa.state.gov
X-WR-CALDESC:Events for BridgeUSA
BEGIN:VTIMEZONE
TZID:UTC
BEGIN:STANDARD
TZOFFSETFROM:+0000
TZOFFSETTO:+0000
TZNAME:UTC
DTSTART:20180101T000000
END:STANDARD
END:VTIMEZONE
BEGIN:VEVENT
DTSTART;TZID=UTC:20180619T000000
DTEND;TZID=UTC:20180619T000000
DTSTAMP:20210527T015926
CREATED:20180529T205459Z
LAST-MODIFIED:20180529T205459Z
UID:6650-1529366400-1529366400@j1visa.state.gov
SUMMARY:Wildwood NJ Beach Bash
DESCRIPTION:\n												\n												\n													\n													\n													\n												\n												\n											
URL:https://j1visa.state.gov/event/wildwood-nj-beach-bash/
END:VEVENT
END:VCALENDAR