
BEGIN:VCALENDAR
VERSION:2.0
PRODID:-//BridgeUSA - ECPv5.13.0//NONSGML v1.0//EN
CALSCALE:GREGORIAN
METHOD:PUBLISH
X-WR-CALNAME:BridgeUSA
X-ORIGINAL-URL:https://j1visa.state.gov
X-WR-CALDESC:Events for BridgeUSA
BEGIN:VTIMEZONE
TZID:UTC
BEGIN:STANDARD
TZOFFSETFROM:+0000
TZOFFSETTO:+0000
TZNAME:UTC
DTSTART:20180101T000000
END:STANDARD
END:VTIMEZONE
BEGIN:VEVENT
DTSTART;TZID=UTC:20181114T000000
DTEND;TZID=UTC:20181114T000000
DTSTAMP:20260424T212046
CREATED:20180530T190440Z
LAST-MODIFIED:20180530T190440Z
UID:6704-1542153600-1542153600@j1visa.state.gov
SUMMARY:UAL CSG SUMMIT
DESCRIPTION:
URL:https://j1visa.state.gov/event/ual-csg-summit/
LOCATION:Outer Banks Visitors Bureau\, 3390\, 5230 N. Croatan HWY\, Kitty Hawk\, NC\, 27949\, United States
END:VEVENT
END:VCALENDAR