
BEGIN:VCALENDAR
VERSION:2.0
PRODID:-//BridgeUSA - ECPv5.13.0//NONSGML v1.0//EN
CALSCALE:GREGORIAN
METHOD:PUBLISH
X-WR-CALNAME:BridgeUSA
X-ORIGINAL-URL:https://j1visa.state.gov
X-WR-CALDESC:Events for BridgeUSA
BEGIN:VTIMEZONE
TZID:UTC
BEGIN:STANDARD
TZOFFSETFROM:+0000
TZOFFSETTO:+0000
TZNAME:UTC
DTSTART:20190101T000000
END:STANDARD
END:VTIMEZONE
BEGIN:VEVENT
DTSTART;TZID=UTC:20190626T130000
DTEND;TZID=UTC:20190626T150000
DTSTAMP:20260425T200130
CREATED:20190607T185155Z
LAST-MODIFIED:20190607T185155Z
UID:7058-1561554000-1561561200@j1visa.state.gov
SUMMARY:Sandusky\, OH - Safety Seminar
DESCRIPTION:Where: Sandusky Fire Department\, 600 W. Market St.\, Sandusky\, Ohio\nWhen: June 26\nTime: 1pm-3pm
URL:https://j1visa.state.gov/event/sandusky-oh-safety-seminar-3/
LOCATION:Sandusky Fire Department\, 600 W Market St\, Sandusky\, OH\, 44870
ORGANIZER;CN="Crystal%20Bunts":MAILTO:cbunts@allianceabroad.com
END:VEVENT
END:VCALENDAR