
BEGIN:VCALENDAR
VERSION:2.0
PRODID:-//BridgeUSA - ECPv5.13.0//NONSGML v1.0//EN
CALSCALE:GREGORIAN
METHOD:PUBLISH
X-WR-CALNAME:BridgeUSA
X-ORIGINAL-URL:https://j1visa.state.gov
X-WR-CALDESC:Events for BridgeUSA
BEGIN:VTIMEZONE
TZID:UTC
BEGIN:STANDARD
TZOFFSETFROM:+0000
TZOFFSETTO:+0000
TZNAME:UTC
DTSTART:20170101T000000
END:STANDARD
END:VTIMEZONE
BEGIN:VEVENT
DTSTART;TZID=UTC:20170213T130000
DTEND;TZID=UTC:20170213T150000
DTSTAMP:20260425T225441
CREATED:20170124T202102Z
LAST-MODIFIED:20170124T202102Z
UID:4976-1486990800-1486998000@j1visa.state.gov
SUMMARY:Rehoboth Beach ISOP Meeting
DESCRIPTION:1:00 PM (EST) \nFor further information\, please contact Maryanne Kauffman at mc.kauffman100@gmail.com
URL:https://j1visa.state.gov/event/rehoboth-beach-isop-meeting/
LOCATION:Lutheran Church of our Savior (Room 2)\, 20276 Bay Vista Road\, Rehoboth Beach\, DE\, United States
ORGANIZER;CN="Maryanne%20Kauffman":MAILTO:j1rehoboth@gmail.com 
END:VEVENT
END:VCALENDAR