
BEGIN:VCALENDAR
VERSION:2.0
PRODID:-//BridgeUSA - ECPv4.9.13//NONSGML v1.0//EN
CALSCALE:GREGORIAN
METHOD:PUBLISH
X-WR-CALNAME:BridgeUSA
X-ORIGINAL-URL:https://j1visa.state.gov
X-WR-CALDESC:Events for BridgeUSA
BEGIN:VTIMEZONE
TZID:America/New_York
BEGIN:DAYLIGHT
TZOFFSETFROM:-0500
TZOFFSETTO:-0400
TZNAME:EDT
DTSTART:20190310T070000
END:DAYLIGHT
BEGIN:STANDARD
TZOFFSETFROM:-0400
TZOFFSETTO:-0500
TZNAME:EST
DTSTART:20191103T060000
END:STANDARD
END:VTIMEZONE
BEGIN:VEVENT
DTSTART;TZID=America/New_York:20190618T090000
DTEND;TZID=America/New_York:20190618T110000
DTSTAMP:20201229T070924
CREATED:20190607T141826Z
LAST-MODIFIED:20190607T141826Z
UID:7020-1560848400-1560855600@j1visa.state.gov
SUMMARY:Outer Banks\, NC - Orientation/Welcome Events
DESCRIPTION:\n												\n												\n													\n													\n													\n												\n												\n											Orientation/Welcome Events (Held at Outer Banks YMCA) with Social Security & Community Partners\nAPPLY FOR A SOCIAL SECURITY CARD\nGet Free stuff \nOBXISOP@GMAIL.COM \n
URL:https://j1visa.state.gov/event/outer-banks-nc-orientation-welcome-events-2/
LOCATION:Outer Banks Family YMCA\, 3000 S Croatan Hwy\, Nags Head\, NC\, 27959\, United States
ORGANIZER;CN="Jamie%20Bond":MAILTO:jbond@intraxinc.com
END:VEVENT
END:VCALENDAR