
BEGIN:VCALENDAR
VERSION:2.0
PRODID:-//BridgeUSA - ECPv4.9.13//NONSGML v1.0//EN
CALSCALE:GREGORIAN
METHOD:PUBLISH
X-WR-CALNAME:BridgeUSA
X-ORIGINAL-URL:https://j1visa.state.gov
X-WR-CALDESC:Events for BridgeUSA
BEGIN:VTIMEZONE
TZID:UTC
BEGIN:STANDARD
TZOFFSETFROM:+0000
TZOFFSETTO:+0000
TZNAME:UTC
DTSTART:20180101T000000
END:STANDARD
END:VTIMEZONE
BEGIN:VEVENT
DTSTART;TZID=UTC:20180618T140000
DTEND;TZID=UTC:20180618T160000
DTSTAMP:20210527T015903
CREATED:20180529T205056Z
LAST-MODIFIED:20180529T205056Z
UID:6647-1529330400-1529337600@j1visa.state.gov
SUMMARY:Ogunquit ME Welcome Bash
DESCRIPTION:\n												\n												\n													\n													\n													\n												\n												\n											What:  J-1 Welcome To Ogunquit Bash\nWhen:  Monday June 18\, 2:00 PM – 4:00 PM\nWhere:  Dunaway Center 23 School Street\nOgunquit\, Maine 03907 \n
URL:https://j1visa.state.gov/event/ogunquit-me-welcome-bash/
LOCATION:Dunaway Community Center\, 23 School Street\, Ogunquit\, ME\, 03907\, United States
END:VEVENT
END:VCALENDAR