
BEGIN:VCALENDAR
VERSION:2.0
PRODID:-//BridgeUSA - ECPv4.9.13//NONSGML v1.0//EN
CALSCALE:GREGORIAN
METHOD:PUBLISH
X-WR-CALNAME:BridgeUSA
X-ORIGINAL-URL:https://j1visa.state.gov
X-WR-CALDESC:Events for BridgeUSA
BEGIN:VTIMEZONE
TZID:America/New_York
BEGIN:DAYLIGHT
TZOFFSETFROM:-0500
TZOFFSETTO:-0400
TZNAME:EDT
DTSTART:20190310T070000
END:DAYLIGHT
BEGIN:STANDARD
TZOFFSETFROM:-0400
TZOFFSETTO:-0500
TZNAME:EST
DTSTART:20191103T060000
END:STANDARD
END:VTIMEZONE
BEGIN:VEVENT
DTSTART;TZID=America/New_York:20190618T160000
DTEND;TZID=America/New_York:20190618T190000
DTSTAMP:20201229T070940
CREATED:20190607T142407Z
LAST-MODIFIED:20190607T175143Z
UID:7022-1560873600-1560884400@j1visa.state.gov
SUMMARY:Ocean City\, MD Summer 2019 Welcome Event
DESCRIPTION:\n												\n												\n													\n													\n													\n												\n												\n											Food and refreshments will be provided! Health and safety demonstrations:\n· Ocean City Police Department\n· Beach Patrol\n· Fire Department\n· Worcester County Health Department\, and more! \nRegistration link: https://chamber.oceancity.org/events/details/j-1-weclome-party-the-residence-inn-30016?range=365\nFacebook event page: https://www.facebook.com/pg/OCWorkforce/events \n
URL:https://j1visa.state.gov/event/ocean-city-md-summer-2019-welcome-event/
LOCATION:Residence Inn by Marriott Ocean City\, 300 Seabay Lane\, Ocean City\, MD\, 21842\, United States
ORGANIZER;CN="Carrie%20Linch":MAILTO:carrie@aspireww.com
END:VEVENT
END:VCALENDAR