
BEGIN:VCALENDAR
VERSION:2.0
PRODID:-//BridgeUSA - ECPv5.13.0//NONSGML v1.0//EN
CALSCALE:GREGORIAN
METHOD:PUBLISH
X-WR-CALNAME:BridgeUSA
X-ORIGINAL-URL:https://j1visa.state.gov
X-WR-CALDESC:Events for BridgeUSA
BEGIN:VTIMEZONE
TZID:UTC
BEGIN:STANDARD
TZOFFSETFROM:+0000
TZOFFSETTO:+0000
TZNAME:UTC
DTSTART:20180101T000000
END:STANDARD
END:VTIMEZONE
BEGIN:VEVENT
DTSTART;TZID=UTC:20180419T083000
DTEND;TZID=UTC:20180420T003000
DTSTAMP:20260425T071454
CREATED:20180221T024153Z
LAST-MODIFIED:20180221T024153Z
UID:6332-1524126600-1524184200@j1visa.state.gov
SUMMARY:Ocean City\, MD - Seasonal Workforce Committee Annual Conference
DESCRIPTION:Where: Carousel Oceanfront Hotel117th Street\, Ocean City\, MD\, 21842When: April 19\, 2018Time: 8:30am – 12:30amPOC: Carrie Linch – clinch@asse.com
URL:https://j1visa.state.gov/event/ocean-city-md-seasonal-workforce-committee-annual-conference/
END:VEVENT
END:VCALENDAR