
BEGIN:VCALENDAR
VERSION:2.0
PRODID:-//BridgeUSA - ECPv5.13.0//NONSGML v1.0//EN
CALSCALE:GREGORIAN
METHOD:PUBLISH
X-WR-CALNAME:BridgeUSA
X-ORIGINAL-URL:https://j1visa.state.gov
X-WR-CALDESC:Events for BridgeUSA
BEGIN:VTIMEZONE
TZID:UTC
BEGIN:STANDARD
TZOFFSETFROM:+0000
TZOFFSETTO:+0000
TZNAME:UTC
DTSTART:20190101T000000
END:STANDARD
END:VTIMEZONE
BEGIN:VEVENT
DTSTART;TZID=UTC:20190725T060000
DTEND;TZID=UTC:20190725T200000
DTSTAMP:20260425T071456
CREATED:20190731T180454Z
LAST-MODIFIED:20190731T180454Z
UID:7234-1564034400-1564084800@j1visa.state.gov
SUMMARY:Ocean City J-1 Trip to Washington\, DC (Many CSGs)
DESCRIPTION:Departing from West Ocean City Park N Ride at 6am\, returning at 8pm \n\nGroup will meet up with J-1 participants from other areas for a quick photo\, then rest of day free to explore DC!\nLow cost of $50 per student\, includes comfortable coach bus and drinks and snacks!\nRegistration link follows: https://chamber.oceancity.org/events/details/j-1-swt-trip-to-washington-d-c-30023\, https://www.facebook.com/pg/OCWorkforce/events/?ref=page_internal\nPOC: Carrie Linch (carrie@aspireww.com)\nTime: 6:00 AM to 8:00 PM
URL:https://j1visa.state.gov/event/ocean-city-j-1-trip-to-washington-dc-many-csgs-2/
LOCATION:West Ocean City Park N Ride\, Ocean City\, MD
ORGANIZER;CN="Carrie%20Linch":MAILTO:carrie@aspireww.com
END:VEVENT
END:VCALENDAR