
BEGIN:VCALENDAR
VERSION:2.0
PRODID:-//BridgeUSA - ECPv5.13.0//NONSGML v1.0//EN
CALSCALE:GREGORIAN
METHOD:PUBLISH
X-WR-CALNAME:BridgeUSA
X-ORIGINAL-URL:https://j1visa.state.gov
X-WR-CALDESC:Events for BridgeUSA
BEGIN:VTIMEZONE
TZID:UTC
BEGIN:STANDARD
TZOFFSETFROM:+0000
TZOFFSETTO:+0000
TZNAME:UTC
DTSTART:20180101T000000
END:STANDARD
END:VTIMEZONE
BEGIN:VEVENT
DTSTART;TZID=UTC:20180605T000000
DTEND;TZID=UTC:20180605T000000
DTSTAMP:20260424T214210
CREATED:20180530T001031Z
LAST-MODIFIED:20180530T001031Z
UID:6619-1528156800-1528156800@j1visa.state.gov
SUMMARY:OBX EV Social Security/Orientation
DESCRIPTION:Outer Banks Family YMCA\nYMCA of South Hampton Roads\n3000 S Croatan Hwy\nNags Head\, NC 27959\, USA
URL:https://j1visa.state.gov/event/obx-ev-social-security-orientation-7/
LOCATION:Outer Banks Family YMCA\, 3000 S Croatan Hwy\, Nags Head\, NC\, 27959\, United States
END:VEVENT
END:VCALENDAR