
BEGIN:VCALENDAR
VERSION:2.0
PRODID:-//BridgeUSA - ECPv4.9.13//NONSGML v1.0//EN
CALSCALE:GREGORIAN
METHOD:PUBLISH
X-WR-CALNAME:BridgeUSA
X-ORIGINAL-URL:https://j1visa.state.gov
X-WR-CALDESC:Events for BridgeUSA
BEGIN:VTIMEZONE
TZID:UTC
BEGIN:STANDARD
TZOFFSETFROM:+0000
TZOFFSETTO:+0000
TZNAME:UTC
DTSTART:20180101T000000
END:STANDARD
END:VTIMEZONE
BEGIN:VEVENT
DTSTART;TZID=UTC:20180606T000000
DTEND;TZID=UTC:20180606T000000
DTSTAMP:20201229T082516
CREATED:20180529T201434Z
LAST-MODIFIED:20180529T201434Z
UID:6628-1528243200-1528243200@j1visa.state.gov
SUMMARY:North Myrtle Beach Orientation
DESCRIPTION:\n												\n												\n													\n													\n													\n												\n												\n											NMB First Baptist Church\n200 Hwy 17\nNorth Myrtle Beach\, SC 29582 \n
URL:https://j1visa.state.gov/event/north-myrtle-beach-orientation-2/
LOCATION:NMB First Baptist Church\, 200 Hwy 17\, North Myrtle Beach\, SC\, 29582\, United States
END:VEVENT
END:VCALENDAR