
BEGIN:VCALENDAR
VERSION:2.0
PRODID:-//BridgeUSA - ECPv5.13.0//NONSGML v1.0//EN
CALSCALE:GREGORIAN
METHOD:PUBLISH
X-WR-CALNAME:BridgeUSA
X-ORIGINAL-URL:https://j1visa.state.gov
X-WR-CALDESC:Events for BridgeUSA
BEGIN:VTIMEZONE
TZID:UTC
BEGIN:STANDARD
TZOFFSETFROM:+0000
TZOFFSETTO:+0000
TZNAME:UTC
DTSTART:20190101T000000
END:STANDARD
END:VTIMEZONE
BEGIN:VEVENT
DTSTART;TZID=UTC:20190702T090000
DTEND;TZID=UTC:20190702T120000
DTSTAMP:20260425T225315
CREATED:20190607T215332Z
LAST-MODIFIED:20190607T215332Z
UID:7105-1562058000-1562068800@j1visa.state.gov
SUMMARY:Myrtle Beach\, SC - Orientation
DESCRIPTION:Where: Seacoast Vineyard Church\, 504 27th Avenue North\, Myrtle Beach\, SC 29577\nTel: 843.445.9000\nTime: Arrive at 9:00am to fill out paperwork\, Program begins at 10:00am\nWebsite: http://myrtlebeachj1students.com/\nTime: 9:00 AM to 12:00 AM
URL:https://j1visa.state.gov/event/myrtle-beach-sc-orientation-4/
LOCATION:Seacoast Vineyard Church\, 504 27th Avenue North\, Myrtle Beach\, SC\, 29577
END:VEVENT
END:VCALENDAR