
BEGIN:VCALENDAR
VERSION:2.0
PRODID:-//BridgeUSA - ECPv5.13.0//NONSGML v1.0//EN
CALSCALE:GREGORIAN
METHOD:PUBLISH
X-WR-CALNAME:BridgeUSA
X-ORIGINAL-URL:https://j1visa.state.gov
X-WR-CALDESC:Events for BridgeUSA
BEGIN:VTIMEZONE
TZID:UTC
BEGIN:STANDARD
TZOFFSETFROM:+0000
TZOFFSETTO:+0000
TZNAME:UTC
DTSTART:20180101T000000
END:STANDARD
END:VTIMEZONE
BEGIN:VEVENT
DTSTART;TZID=UTC:20180619T000000
DTEND;TZID=UTC:20180619T000000
DTSTAMP:20260425T151020
CREATED:20180530T010244Z
LAST-MODIFIED:20180530T010244Z
UID:6661-1529366400-1529366400@j1visa.state.gov
SUMMARY:Myrtle Beach orientation
DESCRIPTION:Seacoast Vineyard Church\n504 27th Avenue North\nMyrtle Beach\, SC 29577\n843.445.9000
URL:https://j1visa.state.gov/event/myrtle-beach-orientation-4/
END:VEVENT
END:VCALENDAR