
BEGIN:VCALENDAR
VERSION:2.0
PRODID:-//BridgeUSA - ECPv4.9.13//NONSGML v1.0//EN
CALSCALE:GREGORIAN
METHOD:PUBLISH
X-WR-CALNAME:BridgeUSA
X-ORIGINAL-URL:https://j1visa.state.gov
X-WR-CALDESC:Events for BridgeUSA
BEGIN:VTIMEZONE
TZID:UTC
BEGIN:STANDARD
TZOFFSETFROM:+0000
TZOFFSETTO:+0000
TZNAME:UTC
DTSTART:20170101T000000
END:STANDARD
END:VTIMEZONE
BEGIN:VEVENT
DTSTART;TZID=UTC:20170606T100000
DTEND;TZID=UTC:20170606T120000
DTSTAMP:20210604T025530
CREATED:20170505T143651Z
LAST-MODIFIED:20170505T143651Z
UID:5395-1496743200-1496750400@j1visa.state.gov
SUMMARY:Myrtle Beach J-1 Exchange Visitor Community Orientation
DESCRIPTION:\n												\n												\n													\n													\n													\n												\n												\n											Doors will open at 9:00am for completion of paperwork. Doors close at the beginning of the presentation at 10:15am. \n
URL:https://j1visa.state.gov/event/myrtle-beach-j-1-exchange-visitor-community-orientation-5/
LOCATION:Seacoast Vineyard Church\, 504 27th Avenue North\, Myrtle Beach\, SC\, United States
END:VEVENT
END:VCALENDAR