
BEGIN:VCALENDAR
VERSION:2.0
PRODID:-//BridgeUSA - ECPv5.13.0//NONSGML v1.0//EN
CALSCALE:GREGORIAN
METHOD:PUBLISH
X-WR-CALNAME:BridgeUSA
X-ORIGINAL-URL:https://j1visa.state.gov
X-WR-CALDESC:Events for BridgeUSA
BEGIN:VTIMEZONE
TZID:UTC
BEGIN:STANDARD
TZOFFSETFROM:+0000
TZOFFSETTO:+0000
TZNAME:UTC
DTSTART:20180101T000000
END:STANDARD
END:VTIMEZONE
BEGIN:VEVENT
DTSTART;TZID=UTC:20180816T000000
DTEND;TZID=UTC:20180816T000000
DTSTAMP:20260425T180958
CREATED:20180530T190219Z
LAST-MODIFIED:20180530T190219Z
UID:6700-1534377600-1534377600@j1visa.state.gov
SUMMARY:MULTI CSG BUS TRIP TO WASHINGTON DC
DESCRIPTION:
URL:https://j1visa.state.gov/event/multi-csg-bus-trip-to-washington-dc/
END:VEVENT
END:VCALENDAR