
BEGIN:VCALENDAR
VERSION:2.0
PRODID:-//BridgeUSA - ECPv5.13.0//NONSGML v1.0//EN
CALSCALE:GREGORIAN
METHOD:PUBLISH
X-WR-CALNAME:BridgeUSA
X-ORIGINAL-URL:https://j1visa.state.gov
X-WR-CALDESC:Events for BridgeUSA
BEGIN:VTIMEZONE
TZID:America/Chicago
BEGIN:DAYLIGHT
TZOFFSETFROM:-0600
TZOFFSETTO:-0500
TZNAME:CDT
DTSTART:20190310T080000
END:DAYLIGHT
BEGIN:STANDARD
TZOFFSETFROM:-0500
TZOFFSETTO:-0600
TZNAME:CST
DTSTART:20191103T070000
END:STANDARD
END:VTIMEZONE
BEGIN:VEVENT
DTSTART;TZID=America/Chicago:20190611T103000
DTEND;TZID=America/Chicago:20190611T123000
DTSTAMP:20260425T084710
CREATED:20190606T221903Z
LAST-MODIFIED:20190606T222216Z
UID:6973-1560249000-1560256200@j1visa.state.gov
SUMMARY:Galveston\, TX - Safety Seminar
DESCRIPTION:San Luis Hotel\, Mainsail conference room
URL:https://j1visa.state.gov/event/galveston-tx-safety-seminar/
LOCATION:The San Luis Resort\, Spa and Conference Center\, 5222 Seawall Blvd\, Galveston\, TX\, 77551\, United States
ORGANIZER;CN="Marianna%20Lemire":MAILTO:mlemire@allianceabroad.com
END:VEVENT
END:VCALENDAR