
BEGIN:VCALENDAR
VERSION:2.0
PRODID:-//BridgeUSA - ECPv5.13.0//NONSGML v1.0//EN
CALSCALE:GREGORIAN
METHOD:PUBLISH
X-WR-CALNAME:BridgeUSA
X-ORIGINAL-URL:https://j1visa.state.gov
X-WR-CALDESC:Events for BridgeUSA
BEGIN:VTIMEZONE
TZID:UTC
BEGIN:STANDARD
TZOFFSETFROM:+0000
TZOFFSETTO:+0000
TZNAME:UTC
DTSTART:20180101T000000
END:STANDARD
END:VTIMEZONE
BEGIN:VEVENT
DTSTART;TZID=UTC:20180604T110000
DTEND;TZID=UTC:20180604T233000
DTSTAMP:20260425T084711
CREATED:20180529T235724Z
LAST-MODIFIED:20180530T000301Z
UID:6605-1528110000-1528155000@j1visa.state.gov
SUMMARY:Galveston Safety Seminar
DESCRIPTION:Moody Gardens\nGarden Caye conference room\n7 Hope Blvd\nGalveston\, TX 77554
URL:https://j1visa.state.gov/event/galveston-safety-seminar/
LOCATION:Moody Gardens\, Garden Caye conference room\, 7 Hope Blvd\, Galveston\, Texas\, 77554\, United States
END:VEVENT
END:VCALENDAR