
BEGIN:VCALENDAR
VERSION:2.0
PRODID:-//BridgeUSA - ECPv5.13.0//NONSGML v1.0//EN
CALSCALE:GREGORIAN
METHOD:PUBLISH
X-WR-CALNAME:BridgeUSA
X-ORIGINAL-URL:https://j1visa.state.gov
X-WR-CALDESC:Events for BridgeUSA
BEGIN:VTIMEZONE
TZID:America/Denver
BEGIN:DAYLIGHT
TZOFFSETFROM:-0700
TZOFFSETTO:-0600
TZNAME:MDT
DTSTART:20190310T090000
END:DAYLIGHT
BEGIN:STANDARD
TZOFFSETFROM:-0600
TZOFFSETTO:-0700
TZNAME:MST
DTSTART:20191103T080000
END:STANDARD
END:VTIMEZONE
BEGIN:VEVENT
DTSTART;TZID=America/Denver:20190624T110000
DTEND;TZID=America/Denver:20190624T150000
DTSTAMP:20260425T075915
CREATED:20190607T202333Z
LAST-MODIFIED:20190607T202333Z
UID:7093-1561374000-1561388400@j1visa.state.gov
SUMMARY:Denver\, CO - Welcome Event and Resource Fair
DESCRIPTION:Welcome Event and Resource Fair \nThis event will introduce exchange visitors in Denver to the organizations\, businesses and community members that are supporting them during their program. This event is FREE to attend.
URL:https://j1visa.state.gov/event/denver-co-welcome-event-and-resource-fair/
LOCATION:The Commons on Champa\, 1245 Champa St\, Denver\, CO\, 80204\, United States
ORGANIZER;CN="Adam%20Salzman":MAILTO:asalzman@allianceabroad.com
END:VEVENT
END:VCALENDAR