
BEGIN:VCALENDAR
VERSION:2.0
PRODID:-//BridgeUSA - ECPv4.9.13//NONSGML v1.0//EN
CALSCALE:GREGORIAN
METHOD:PUBLISH
X-WR-CALNAME:BridgeUSA
X-ORIGINAL-URL:https://j1visa.state.gov
X-WR-CALDESC:Events for BridgeUSA
BEGIN:VTIMEZONE
TZID:UTC
BEGIN:STANDARD
TZOFFSETFROM:+0000
TZOFFSETTO:+0000
TZNAME:UTC
DTSTART:20190101T000000
END:STANDARD
END:VTIMEZONE
BEGIN:VEVENT
DTSTART;VALUE=DATE:20190917
DTEND;VALUE=DATE:20190918
DTSTAMP:20210515T044514
CREATED:20190731T152237Z
LAST-MODIFIED:20190731T152237Z
UID:7281-1568678400-1568764799@j1visa.state.gov
SUMMARY:Community Forum
DESCRIPTION:\n												\n												\n													\n													\n													\n												\n												\n											
URL:https://j1visa.state.gov/event/community-forum/
ORGANIZER;CN="Marianna%20Lemire":MAILTO:mlemire@allianceabroad.com
END:VEVENT
END:VCALENDAR