
BEGIN:VCALENDAR
VERSION:2.0
PRODID:-//BridgeUSA - ECPv4.9.13//NONSGML v1.0//EN
CALSCALE:GREGORIAN
METHOD:PUBLISH
X-WR-CALNAME:BridgeUSA
X-ORIGINAL-URL:https://j1visa.state.gov
X-WR-CALDESC:Events for BridgeUSA
BEGIN:VTIMEZONE
TZID:UTC
BEGIN:STANDARD
TZOFFSETFROM:+0000
TZOFFSETTO:+0000
TZNAME:UTC
DTSTART:20180101T000000
END:STANDARD
END:VTIMEZONE
BEGIN:VEVENT
DTSTART;TZID=UTC:20180605T150000
DTEND;TZID=UTC:20180605T170000
DTSTAMP:20201229T082508
CREATED:20180529T201354Z
LAST-MODIFIED:20180529T201354Z
UID:6626-1528210800-1528218000@j1visa.state.gov
SUMMARY:Branson J-1 Welcome Orientation
DESCRIPTION:\n												\n												\n													\n													\n													\n												\n												\n											4 Keeter St.\nBranson\, Missouri 65616 \n
URL:https://j1visa.state.gov/event/branson-j-1-welcome-orientation-2/
END:VEVENT
END:VCALENDAR