
BEGIN:VCALENDAR
VERSION:2.0
PRODID:-//BridgeUSA - ECPv5.13.0//NONSGML v1.0//EN
CALSCALE:GREGORIAN
METHOD:PUBLISH
X-WR-CALNAME:BridgeUSA
X-ORIGINAL-URL:https://j1visa.state.gov
X-WR-CALDESC:Events for BridgeUSA
BEGIN:VTIMEZONE
TZID:UTC
BEGIN:STANDARD
TZOFFSETFROM:+0000
TZOFFSETTO:+0000
TZNAME:UTC
DTSTART:20160101T000000
END:STANDARD
END:VTIMEZONE
BEGIN:VEVENT
DTSTART;VALUE=DATE:20160712
DTEND;VALUE=DATE:20160713
DTSTAMP:20260424T112927
CREATED:20160718T202255Z
LAST-MODIFIED:20160718T202255Z
UID:4178-1468281600-1468367999@j1visa.state.gov
SUMMARY:Branson ISOP  - Thanksoween Dinner
DESCRIPTION:Event takes place from 5:00 – 7:30pm \nJ-1 participants are welcome to join for a delicious\, free Thanksgiving meal\, games\, prizes\, costumes\, photobooth\, and new friends. \nOpen to all J1 participants \nRSVP: https://www.eventbrite.com/e/bransonj1-thanks-o-ween-dinner-party-tickets-26206439165 or on Branson J1 Facebook page \nFor questions\, contact Abigail Palmer abigail@culturalexchangenetwork.org
URL:https://j1visa.state.gov/event/branson-isop-thanksoween-dinner/
LOCATION:Skyline Baptist Church\, 949 State Highway 165\, Branson\, MO\, United States
END:VEVENT
END:VCALENDAR