
BEGIN:VCALENDAR
VERSION:2.0
PRODID:-//BridgeUSA - ECPv5.13.0//NONSGML v1.0//EN
CALSCALE:GREGORIAN
METHOD:PUBLISH
X-WR-CALNAME:BridgeUSA
X-ORIGINAL-URL:https://j1visa.state.gov
X-WR-CALDESC:Events for BridgeUSA
BEGIN:VTIMEZONE
TZID:UTC
BEGIN:STANDARD
TZOFFSETFROM:+0000
TZOFFSETTO:+0000
TZNAME:UTC
DTSTART:20180101T000000
END:STANDARD
END:VTIMEZONE
BEGIN:VEVENT
DTSTART;TZID=UTC:20181114T080000
DTEND;TZID=UTC:20181114T170000
DTSTAMP:20260425T133556
CREATED:20180629T182345Z
LAST-MODIFIED:20180629T182345Z
UID:6756-1542182400-1542214800@j1visa.state.gov
SUMMARY:Annual CSG Summit
DESCRIPTION:TBD
URL:https://j1visa.state.gov/event/annual-csg-summit/
LOCATION:Outer Banks Visitors Bureau\, 3390\, 5230 N. Croatan HWY\, Kitty Hawk\, NC\, 27949\, United States
END:VEVENT
END:VCALENDAR